BEGIN:VCALENDAR
VERSION:2.0
PRODID:-//ChamberMaster//Event Calendar 2.0//EN
METHOD:PUBLISH
X-PUBLISHED-TTL:P3D
REFRESH-INTERVAL:P3D
CALSCALE:GREGORIAN
BEGIN:VEVENT
DTSTART:20220703T000000Z
DTEND:20220703T033000Z
X-MICROSOFT-CDO-ALLDAYEVENT:FALSE
SUMMARY:Watch the Portage Fireworks at Cross of Christ Church
DESCRIPTION:We would like to invite the community to enjoy the Portage Fireworks from the comfort of our backyard at Cross of Christ Church located at 585 E. Slifer Street\, Portage. \n\n\n\nThere will be FREE ICE CREAM & popcorn.  Set up your blankets anywhere.  Restrooms are available for use.
X-ALT-DESC;FMTTYPE=text/html:<span style="font-size:14px\;"><span style="font-family:arial\;">We would like to invite the community to enjoy the Portage Fireworks from the comfort of our backyard at Cross of Christ Church located at 585 E. Slifer Street\, Portage.&nbsp\;<br />\n<br />\nThere will be FREE ICE CREAM &amp\; popcorn.&nbsp\; Set up your blankets anywhere.&nbsp\; Restrooms are available for use.&nbsp\;&nbsp\;</span></span>
LOCATION:Cross of Christ Church 585 E. Slifer Street Portage\, WI 53901
UID:e.374.30186
SEQUENCE:3
DTSTAMP:20260424T131139Z
URL:http://chambermaster.portagewi.com/events/details/watch-the-portage-fireworks-at-cross-of-christ-church-30186
END:VEVENT

END:VCALENDAR
