BEGIN:VCALENDAR
VERSION:2.0
PRODID:-//ChamberMaster//Event Calendar 2.0//EN
METHOD:PUBLISH
X-PUBLISHED-TTL:P3D
REFRESH-INTERVAL:P3D
CALSCALE:GREGORIAN
BEGIN:VEVENT
DTSTART:20190317T003000Z
DTEND:20190317T023000Z
X-MICROSOFT-CDO-ALLDAYEVENT:FALSE
SUMMARY:Theiss & O'Connor at Portage Center for the Arts
DESCRIPTION:This Milwaukee trio and Irish Fest favorite specializes in Irish music done in an American folk style\, featuring sweet vocal harmonies\, finger-style guitar work and classic Irish ballads!
X-ALT-DESC;FMTTYPE=text/html:This Milwaukee trio and Irish Fest favorite specializes in Irish music done in an American folk style\, featuring sweet vocal harmonies\, finger-style guitar work and classic Irish ballads!
LOCATION:Portage Center for the Arts\, 301 E. Cook St.
UID:e.374.23942
SEQUENCE:3
DTSTAMP:20260421T202335Z
URL:http://chambermaster.portagewi.com/events/details/theiss-o-connor-at-portage-center-for-the-arts-23942
END:VEVENT

END:VCALENDAR
