BEGIN:VCALENDAR
VERSION:2.0
PRODID:-//ChamberMaster//Event Calendar 2.0//EN
METHOD:PUBLISH
X-PUBLISHED-TTL:P3D
REFRESH-INTERVAL:P3D
CALSCALE:GREGORIAN
BEGIN:VEVENT
DTSTART:20240121T013000Z
DTEND:20240121T030000Z
X-MICROSOFT-CDO-ALLDAYEVENT:FALSE
SUMMARY:The Jimmy's at Portage Center for the Arts
DESCRIPTION:The Jimmy's at Portage Center for the Arts
X-ALT-DESC;FMTTYPE=text/html:The Jimmy&#39\;s at Portage Center for the Arts
LOCATION:Portage Center for the Arts 301 E. Cook Street
UID:e.374.33808
SEQUENCE:3
DTSTAMP:20260424T114711Z
URL:http://chambermaster.portagewi.com/events/details/the-jimmy-s-at-portage-center-for-the-arts-33808
END:VEVENT

END:VCALENDAR
