BEGIN:VCALENDAR
VERSION:2.0
PRODID:-//ChamberMaster//Event Calendar 2.0//EN
METHOD:PUBLISH
X-PUBLISHED-TTL:P3D
REFRESH-INTERVAL:P3D
CALSCALE:GREGORIAN
BEGIN:VEVENT
DTSTART;VALUE=DATE:20260828
DTEND;VALUE=DATE:20260830
TRANSP:TRANSPARENT
X-MICROSOFT-CDO-ALLDAYEVENT:TRUE
SUMMARY:Taste of Portage - Aug. 28 & 29\, 2026
DESCRIPTION:Taste of Portage Market Fair 2026\n\nJoin us in downtown Portage for summer fun!  The event will continue on Cook Street\, DeWitt Street and at Market Square.  Live Music\, Car Show\, Food\, Drinks\, Vendors\, Kid's Activities\, Sidewalk Sales\, Half Marathon & 5K Run/Walk\n\n\n\nThe event will continue at Market Square and include Cook and DeWitt Street this year for the Car Show.  We will have live music\, food\, drinks\, kid's activities\, a classic car & truck show\, craft vendors and a half marathon with a 5K. \n\n\n\nEvents take place at Market Square Parking Lot at the corner of Hwy 33 and Adams Street and along Cook and DeWitt Street on Saturday.\n\n\n\nFRIDAY NIGHT - AUGUST 28th \n\nActivities at Market Square in downtown at the corner of Hwy 33 and Adams Street\n\n- Music with The WhiskeyBelles at 6PM\n\n- Beer Tent & Food Court 5PM-9PM \n\n\n\n\n\nSATURDAY - AUGUST 29th\n\n- Half Marathon and 5K.  Half starts at 7:15am and 5K at 7:30am.  Registration at 112 East Edgewater or online\n\n- Walking Tour of Downtown 10AM - Meet at the Chamber office (104 W. Cook St.)\n\n- Food Court 10AM-4PM (at Market Square)\n\n- Beer Tent 10AM-4PM (at Market Square)\n\n\n\nLIVE MUSIC at Market Square Lot  \n\nBree Morgan along with the Chillbillies and Dem Horny Funkers 11AM-3PM\n\n\n\nLIVE MUSIC at Cook and Dewitt Street \n\nTBA    11AM-2PM \n\n\n\nCAR SHOW on COOK ST. (All Make/All Models/All Years) Check-in begins at 8am.  Enter the show at the corner of Adams Street and Cook Street.  $10 show registration at the gate. \n\n\n\nCRAFT SHOW 10AM-3PM\n\nHeld along DeWitt Street \n\nClick here for the craft application.\n\n\n\nKID'S ACTIVITIES 11AM-3PM\n\nHeld at the corner of Cook and Marachowsky Place near Market Square\n\n\n\nSUMMER SIDEWALK SALES & ACTIVITES  11AM\n\nMany of our shops in the downtown area will be having summer sidewalk sales.
X-ALT-DESC;FMTTYPE=text/html:<p><span style="font-size:16px\;"><span style="font-family:arial\;"><strong style="font-size: 16px\;"><u>Taste of Portage Market Fair 2026</u></strong><br />\nJoin us in downtown Portage for summer fun!&nbsp\; The event will continue on Cook Street\, DeWitt Street and&nbsp\;at Market Square.&nbsp\;&nbsp\;<strong style="font-family: arial\; font-size: 16px\;"><i>Live Music\, Car Show\, Food\, Drinks\, Vendors\, Kid&#39\;s Activities\, Sidewalk Sales\, Half Marathon&nbsp\;&amp\; 5K Run/Walk</i></strong><br />\n<br />\nThe event will continue at Market Square and include Cook and DeWitt Street&nbsp\;this year for the Car Show.&nbsp\; We will have live music\, food\, drinks\, kid&#39\;s activities\, a classic car &amp\; truck show\, craft vendors and a half marathon with a 5K.&nbsp\;<br />\n<br />\nEvents take place at Market Square Parking Lot at&nbsp\;the corner of Hwy 33 and Adams Street and along Cook and DeWitt Street on Saturday.<br />\n<br />\n<u><strong>FRIDAY NIGHT - AUGUST 28th&nbsp\;</strong></u><br />\nActivities at Market Square&nbsp\;in downtown at the corner of Hwy 33 and Adams Street<br />\n<strong>- <em>Music with The WhiskeyBelles at&nbsp\;6PM</em></strong><br />\n- Beer Tent&nbsp\;&amp\; Food Court 5PM-9PM&nbsp\;<br />\n<br />\n<br />\n<strong><u>SATURDAY - AUGUST 29th</u></strong><br />\n- Half Marathon and 5K.&nbsp\; Half starts at 7:15am and 5K at 7:30am.&nbsp\; Registration at 112 East Edgewater or online<br />\n-&nbsp\;Walking Tour of Downtown 10AM - Meet at the Chamber office (104 W. Cook St.)<br />\n- Food Court&nbsp\;10AM-4PM (at Market Square)<br />\n- Beer Tent&nbsp\;10AM-4PM (at Market Square)<br />\n<br />\n<u style="font-size: 16px\;">LIVE MUSIC at Market Square Lot&nbsp\;&nbsp\;</u><br />\n<em><strong><span style="color: rgb(0\, 0\, 0)\;">Bree Morgan along with the Chillbillies and Dem Horny Funkers </span>11AM-3PM</strong></em><br />\n<br />\n<u style="font-size: 16px\;">LIVE MUSIC at Cook and Dewitt Street&nbsp\;</u><br />\nTBA &nbsp\; &nbsp\;11AM-2PM&nbsp\;<br />\n<br />\n<u>CAR SHOW on COOK ST.</u>&nbsp\;(All Make/All Models/All Years)&nbsp\;Check-in begins at 8am.&nbsp\; Enter the show&nbsp\;at the corner of Adams Street and Cook Street.&nbsp\; $10 show registration at the gate.&nbsp\;<br />\n<br />\n<u>CRAFT SHOW</u>&nbsp\;10AM-3PM<br />\nHeld along DeWitt Street&nbsp\;</span></span><br />\n<a href="https://chambermaster.blob.core.windows.net/userfiles/UserFiles/chambers/374/File/Tastecraftapplication2026.pdf" onclick="window.open(this.href\, ''\, 'resizable=no\,status=no\,location=no\,toolbar=no\,menubar=no\,fullscreen=no\,scrollbars=no\,dependent=no')\; return false\;">Click here for the craft application.</a><br />\n<br />\n<span style="font-size:16px\;"><span style="font-family:arial\;"><u>KID&#39\;S ACTIVITIES</u>&nbsp\;11AM-3PM<br />\nHeld at the corner of Cook and&nbsp\;Marachowsky Place near Market Square<br />\n<br />\n<u style="font-size: 16px\;">SUMMER SIDEWALK SALES &amp\; ACTIVITES</u><u style="font-size: 16px\;">&nbsp\;&nbsp\;</u>11AM<br />\nMany of our shops in&nbsp\;the downtown area will be having summer sidewalk sales.&nbsp\; </span></span></p>\n
LOCATION:Downtown Portage at the Market Square Parking Lot located at the corner of Hwy 33 & Adams St.
UID:e.374.39427
SEQUENCE:3
DTSTAMP:20260422T201514Z
URL:http://chambermaster.portagewi.com/events/details/taste-of-portage-aug-28-29-2026-39427
END:VEVENT

END:VCALENDAR
