BEGIN:VCALENDAR
VERSION:2.0
PRODID:-//ChamberMaster//Event Calendar 2.0//EN
METHOD:PUBLISH
X-PUBLISHED-TTL:P3D
REFRESH-INTERVAL:P3D
CALSCALE:GREGORIAN
BEGIN:VEVENT
DTSTART:20211211T230000Z
DTEND:20211212T010000Z
X-MICROSOFT-CDO-ALLDAYEVENT:FALSE
SUMMARY:Shop with a Cop Fundraiser at Portage Elks Lodge
DESCRIPTION:Shop With A Cop -  Dinner and Raffles\n\n\n\nPlease join us in supporting a great cause for the children of our community. We are seeking donations to fund the Shop With A Cop program of Columbia County and to raise money for the "Shop With A Cop" program.  \n\n\n\nYoung kids\, K-8th grade\, are selected each year during the end-of-the-year holiday season to shop at one of the local area stores to purchase gifts for members of their immediate family. Each child is given a small amount of money to spend\, normally $75-$125\, depending on the size of the child's immediate family.\n\n\n\nLaw enforcement personnel escort the children around the store and assist in selecting appropriate gifts for each family member. The children are told and understand that the money is not for personal use and must only be spent on members of their families.\n\n\n\nAfter shopping\, the children will eat lunch\, wrap their gifts\, and continue to get to know the law enforcement personnel.\n\n\n\nALL PROCEEDS GO TO SHOP WITH A COP\n\nDonations can be in the form of check made out to:\n\nPortage Elks Lodge #675\n\nPO Box 316\n\nPortage\, WI 53901.\n\n\n\nWe will also be taking donations for raffle prizes. Make up your own basket and drop it off at the Portage Elks Lodge\, 201 W. Conant Street or contact Tim Green at tgreen_elks675@charter.net to arrange pick up.
X-ALT-DESC;FMTTYPE=text/html:<div><span style="font-size: medium\;"><span style="font-family: calibri\;">Shop With A Cop -&nbsp\; Dinner and Raffles</span></span><br />\n<br />\n<span style="font-size: medium\;"><span style="font-family: calibri\;">Please join us in supporting a great cause for the children of our community. We are seeking donations to fund the Shop With A Cop program of Columbia County and to raise money for the &ldquo\;Shop With A Cop&rdquo\; program.&nbsp\; </span></span><br />\n<br />\n<span style="font-size: medium\;"><span style="font-family: calibri\;">Young kids\, K-8th grade\, are selected each year during the end-of-the-year holiday season to shop </span></span><span style="font-size: medium\;"><span style="font-family: calibri\;">at one of the local area stores to purchase gifts for members of their immediate family. Each child is given a small amount of money to spend\, normally $75-$125\, depending on the size of the child&rsquo\;s immediate family.<br />\n<br />\nLaw enforcement personnel escort the children around the store and assist in selecting appropriate gifts for each family member. The children are told and understand that the money is not for personal use and must only be spent on members of their families.</span></span><br />\n<br />\n<span style="font-size: medium\;"><span style="font-family: calibri\;">After shopping\, the children will eat lunch\, wrap their gifts\, and continue to get to know the law enforcement personnel.</span></span><br />\n<br />\n<span style="font-size: medium\;"><span style="font-family: calibri\;">ALL PROCEEDS GO TO SHOP WITH A COP</span></span><br />\n<span style="font-size: medium\;"><span style="font-family: calibri\;">Donations can be in the form of check made out to:<br />\nPortage Elks Lodge #675<br />\nPO Box 316<br />\nPortage\, WI 53901.</span></span><br />\n<br />\n<span style="font-size: medium\;"><span style="font-family: calibri\;">We will also be taking donations for raffle prizes. Make up your own basket and drop it off at the Portage Elks Lodge\, 201 W. Conant Street or contact Tim Green at <a href="mailto:tgreen_elks675@charter.net">tgreen_elks675@charter.net</a> to arrange pick up.</span></span><br />\n<br />\n<br />\n<br />\n&nbsp\;</div>\n
LOCATION:Portage Elks Lodge 675 201 W. Conant Portage\, WI 53901 (608) 742-6040
UID:e.374.28824
SEQUENCE:3
DTSTAMP:20260424T015553Z
URL:http://chambermaster.portagewi.com/events/details/shop-with-a-cop-fundraiser-at-portage-elks-lodge-28824
END:VEVENT

END:VCALENDAR
