BEGIN:VCALENDAR
VERSION:2.0
PRODID:-//ChamberMaster//Event Calendar 2.0//EN
METHOD:PUBLISH
X-PUBLISHED-TTL:P3D
REFRESH-INTERVAL:P3D
CALSCALE:GREGORIAN
BEGIN:VEVENT
DTSTART:20240218T013000Z
DTEND:20240218T030000Z
X-MICROSOFT-CDO-ALLDAYEVENT:FALSE
SUMMARY:Pro Arte Quartet at Portage Center for the Arts
DESCRIPTION:Pro Arte Quartet at Portage Center for the Arts
X-ALT-DESC;FMTTYPE=text/html:Pro Arte Quartet at Portage Center for the Arts
LOCATION:Portage Center for the Arts 301 E. Cook Street
UID:e.374.33809
SEQUENCE:3
DTSTAMP:20260424T100454Z
URL:http://chambermaster.portagewi.com/events/details/pro-arte-quartet-at-portage-center-for-the-arts-33809
END:VEVENT

END:VCALENDAR
