BEGIN:VCALENDAR
VERSION:2.0
PRODID:-//ChamberMaster//Event Calendar 2.0//EN
METHOD:PUBLISH
X-PUBLISHED-TTL:P3D
REFRESH-INTERVAL:P3D
CALSCALE:GREGORIAN
BEGIN:VEVENT
DTSTART;VALUE=DATE:20220512
DTEND;VALUE=DATE:20220513
TRANSP:TRANSPARENT
X-MICROSOFT-CDO-ALLDAYEVENT:TRUE
SUMMARY:Postponed - Miss Lulu Bett Performance by Portage Area Community Theatre
DESCRIPTION:Due to COVID-19\, the May 12-15 performances of the play Miss Lulu Bett have been indefinitely postponed. Ticket refunds can be obtained by contacting the Portage Center for the Arts box office at 608-742-5655.\n\n\n\n'Miss Lulu Bett' The Pulitzer Prize winning comedy by Zona Gale will be presented at Portage Center for the Arts by the Portage Area Community Theatre.\n\n\n\nPerformance Dates Include: \n\nThursdays\, May 5 & 12 at 7pm\n\nFridays\, May 6 & 13 at 7pm\n\nSaturday\, May 14 at 7pm\n\nSundays\, May 8 & 15 at 2pm\n\n\n\nPresented by Portage Area Community Theatre\n\nAdults $15\, Students $5\n\n\n\nTickets at the door Call 608-742-5655 for Information
X-ALT-DESC;FMTTYPE=text/html:<span style="font-size:16px\;"><strong><em><span style="font-family:arial\,sans-serif\;">Due to COVID-19\, the May 12-15 performances of the play Miss Lulu Bett have been indefinitely postponed. Ticket refunds can be obtained by contacting the Portage Center for the Arts box office at 608-742-5655.</span></em></strong></span><br>\n<br>\n<span style="font-size:14px\;"><span style="font-family:arial\;">'Miss Lulu Bett' The Pulitzer Prize winning comedy by Zona Gale will be presented at Portage Center for the Arts by the Portage Area Community Theatre.<br>\n<br>\nPerformance Dates Include:&nbsp\;<br>\nThursdays\, May 5 &amp\; 12 at 7pm<br>\nFridays\, May 6 &amp\; 13 at 7pm<br>\nSaturday\, May 14 at 7pm<br>\nSundays\, May 8 &amp\; 15 at 2pm<br>\n<br>\nPresented by Portage Area Community Theatre<br>\nAdults $15\, Students $5<br>\n<br>\nTickets at the door Call 608-742-5655 for Information </span></span>
LOCATION:Portage Center for the Arts 301 East Cook Street Portage\, WI 53901 608-742-5655
UID:e.374.29431
SEQUENCE:3
DTSTAMP:20260424T094642Z
URL:http://chambermaster.portagewi.com/events/details/postponed-miss-lulu-bett-performance-by-portage-area-community-theatre-05-12-2022-29431
END:VEVENT

END:VCALENDAR
