BEGIN:VCALENDAR
VERSION:2.0
PRODID:-//ChamberMaster//Event Calendar 2.0//EN
METHOD:PUBLISH
X-PUBLISHED-TTL:P3D
REFRESH-INTERVAL:P3D
CALSCALE:GREGORIAN
BEGIN:VEVENT
DTSTART:20220115T150000Z
DTEND:20220115T200000Z
X-MICROSOFT-CDO-ALLDAYEVENT:FALSE
SUMMARY:Portage Ice Fishing Team/Portage FFA Ice Fishing Clinic
DESCRIPTION:On Saturday\, January 15th\, The Portage Ice Fishing Team along with Portage FFA will be hosting a Free Ice Fishing Event at Silver Lake Pond. Attendees will be able to fish without a license or stamp as part of the Wisconsin DNR Free Ice Fishing weekend. In addition to ice fishing\, attendees will be able to meet with members of the Portage Police Department to discuss Ice Fishing safety.\n\n\n\nAttendees can access the event at Silver Lake Beach and Park (522 Silver Lake Drive). Prizes will be offered for largest fish caught\, including several Cabella's gift cards. Also\, attendees will be provided with free hot chocolate as they fish and explore the event.\n\n\n\nMembers of the Portage Ice Fishing Team and Portage FFA will be on site to assist first-time fishers with equipment\, practices and advice! No fishing experience required!
X-ALT-DESC;FMTTYPE=text/html:<span style="font-size:14px\;"><span style="font-family:arial\;">On Saturday\, January 15th\, The Portage Ice Fishing Team along with Portage FFA will be hosting a Free Ice Fishing Event at Silver Lake Pond. Attendees will be able to fish without a license or stamp as part of the Wisconsin DNR Free Ice Fishing weekend. In addition to ice fishing\, attendees will be able to meet with members of the Portage Police Department to discuss Ice Fishing safety.<br />\n<br />\nAttendees can access the event at Silver Lake Beach and Park (522 Silver Lake Drive). Prizes will be offered for largest fish caught\, including several Cabella&rsquo\;s gift cards. Also\, attendees will be provided with free hot chocolate as they fish and explore the event.<br />\n<br />\nMembers of the Portage Ice Fishing Team and Portage FFA will be on site to assist first-time fishers with equipment\, practices and advice! No fishing experience required!</span></span>
LOCATION:Silver Lake (522 Silver Lake Drive)
UID:e.374.29103
SEQUENCE:3
DTSTAMP:20260424T033057Z
URL:http://chambermaster.portagewi.com/events/details/portage-ice-fishing-team-portage-ffa-ice-fishing-clinic-29103
END:VEVENT

END:VCALENDAR
