BEGIN:VCALENDAR
VERSION:2.0
PRODID:-//ChamberMaster//Event Calendar 2.0//EN
METHOD:PUBLISH
X-PUBLISHED-TTL:P3D
REFRESH-INTERVAL:P3D
CALSCALE:GREGORIAN
BEGIN:VEVENT
DTSTART;VALUE=DATE:20190318
DTEND;VALUE=DATE:20190319
TRANSP:TRANSPARENT
X-MICROSOFT-CDO-ALLDAYEVENT:TRUE
SUMMARY:Pardeeville Garden Club Program
DESCRIPTION:We are delighted to welcome horticulture educator Cal Bouwkamp.  A retired Ag-ED instructor\, Cal's program will cover the basic rules for growing vegetables to show at fairs or for personal use using old and new techniques. \n\n \n\nPlan now to join us on Monday\, March 18 at the Village Hall at 7pm.  There will be a brief business meeting followed by Cal's presentation.  Members\, guests and interested community members are cordially invited to attend this free program.
X-ALT-DESC;FMTTYPE=text/html:<span style="font-size: medium\;"><span style="font-family: calibri\;">We are delighted to welcome horticulture educator Cal Bouwkamp.&nbsp\; A retired Ag-ED instructor\, Cal&rsquo\;s program will cover the basic rules for growing vegetables to show at fairs or for personal use using old and new techniques. </span></span><br />\n&nbsp\;<br />\n<span style="font-size: medium\;"><span style="font-family: calibri\;">Plan now to join us on Monday\, March 18 at the Village Hall at 7pm.&nbsp\; There will be a brief business meeting followed by Cal&rsquo\;s presentation.&nbsp\; Members\, guests and interested community members are cordially invited to attend this free program.</span></span><br />\n<br />\n<br />\n<br />\n&nbsp\;
LOCATION:
UID:e.374.25740
SEQUENCE:3
DTSTAMP:20260421T201316Z
URL:http://chambermaster.portagewi.com/events/details/pardeeville-garden-club-program-25740
END:VEVENT

END:VCALENDAR
