BEGIN:VCALENDAR
VERSION:2.0
PRODID:-//ChamberMaster//Event Calendar 2.0//EN
METHOD:PUBLISH
X-PUBLISHED-TTL:P3D
REFRESH-INTERVAL:P3D
CALSCALE:GREGORIAN
BEGIN:VEVENT
DTSTART;VALUE=DATE:20220905
DTEND;VALUE=DATE:20220906
TRANSP:TRANSPARENT
X-MICROSOFT-CDO-ALLDAYEVENT:TRUE
SUMMARY:Labor Day Workout at Portage CrossFit Cooperative
DESCRIPTION:Labor Day Workout at Portage CrossFit Cooperative\nMonday\, September 5\n\nBegins at 8am\; doors open at 7:30am\n\nDrop-ins Welcome - 100% of $20 fee goes toward  the effort to bring the Portage Boys & Girls Club to fruition.
X-ALT-DESC;FMTTYPE=text/html:<strong>Labor Day Workout at Portage CrossFit Cooperative</strong>\n<div>Monday\, September 5<br />\nBegins at 8am\; doors open at 7:30am</div>\n\n<div>Drop-ins Welcome - 100% of $20 fee goes toward&nbsp\; the effort to bring the Portage Boys &amp\; Girls Club to fruition.</div>\n
LOCATION:211 East Albert Street\, Portage\, WI
UID:e.374.30306
SEQUENCE:3
DTSTAMP:20260424T163811Z
URL:http://chambermaster.portagewi.com/events/details/labor-day-workout-at-portage-crossfit-cooperative-30306
END:VEVENT

END:VCALENDAR
