BEGIN:VCALENDAR
VERSION:2.0
PRODID:-//ChamberMaster//Event Calendar 2.0//EN
METHOD:PUBLISH
X-PUBLISHED-TTL:P3D
REFRESH-INTERVAL:P3D
CALSCALE:GREGORIAN
BEGIN:VEVENT
DTSTART:20230129T013000Z
DTEND:20230129T030000Z
X-MICROSOFT-CDO-ALLDAYEVENT:FALSE
SUMMARY:Jason Paul Peterson at Portage Center for the Arts
DESCRIPTION:Jason Paul Peterson - Saturday\, January 28 at 7:30pm\n\nThis Wisconsin native's impeccable musicianship and piano technique\, and innovative and appealing programming have captivated audiences throughout North America\, Asia and Europe.
X-ALT-DESC;FMTTYPE=text/html:Jason Paul Peterson - Saturday\, January 28 at 7:30pm<br />\nThis Wisconsin native&#39\;s impeccable musicianship and piano technique\, and innovative and appealing programming have captivated audiences throughout North America\, Asia and Europe.&nbsp\;
LOCATION:Portage Center for the Arts 301 E. Cook Street 608-742-5655
UID:e.374.30207
SEQUENCE:3
DTSTAMP:20260424T235620Z
URL:http://chambermaster.portagewi.com/events/details/jason-paul-peterson-at-portage-center-for-the-arts-30207
END:VEVENT

END:VCALENDAR
