BEGIN:VCALENDAR
VERSION:2.0
PRODID:-//ChamberMaster//Event Calendar 2.0//EN
METHOD:PUBLISH
X-PUBLISHED-TTL:P3D
REFRESH-INTERVAL:P3D
CALSCALE:GREGORIAN
BEGIN:VEVENT
DTSTART:20220915T120000Z
DTEND:20220915T220000Z
X-MICROSOFT-CDO-ALLDAYEVENT:FALSE
SUMMARY:Food Drive for Portage Food Pantry at Blau Family Chiropractic
DESCRIPTION:Bring a Food Donation and get adjusted! Open to all past and current patients on September 15th come get a no-charge adjustment and make a donation to benefit Portage Food Pantry!\n\n\n\nNew Patient Special Month of September! Schedule your 1st appointment in September and bring a food donation to receive a FREE D5 Discovery Exam!
X-ALT-DESC;FMTTYPE=text/html:Bring a Food Donation and get adjusted! Open to all past and current patients on September 15th come get a no-charge adjustment and make a donation to benefit Portage Food Pantry!<br />\n<br />\nNew Patient Special Month of September! Schedule your 1st appointment in September and bring a food donation to receive a FREE D5 Discovery Exam!&nbsp\;
LOCATION:Blau Family Chiropractic
UID:e.374.30303
SEQUENCE:3
DTSTAMP:20260424T164531Z
URL:http://chambermaster.portagewi.com/events/details/food-drive-for-portage-food-pantry-30303
END:VEVENT

END:VCALENDAR
