BEGIN:VCALENDAR
VERSION:2.0
PRODID:-//ChamberMaster//Event Calendar 2.0//EN
METHOD:PUBLISH
X-PUBLISHED-TTL:P3D
REFRESH-INTERVAL:P3D
CALSCALE:GREGORIAN
BEGIN:VEVENT
DTSTART:20220206T013000Z
DTEND:20220206T030000Z
X-MICROSOFT-CDO-ALLDAYEVENT:FALSE
SUMMARY:Driftless Brass Quintet at Portage Center for the Arts
DESCRIPTION:Join in the Portage Center for the Arts at the Zona Gale Theatre on select Saturdays throughout the year for music concerts.\n\n \n\n\nThe Driftless Brass Quintet plays a wide variety of musical delights specifically arranged for the group\, ranging from Renaissance to Jazz!
X-ALT-DESC;FMTTYPE=text/html:<p class="font_8" style="margin: 0px\; padding: 0px\; border: 0px\; outline: 0px\; vertical-align: baseline\; background: transparent\; pointer-events: auto\; font-size: 14px\; line-height: normal\; color: rgb(0\, 0\, 0)\;"><span style="font-size:14px\;"><span style="margin: 0px\; padding: 0px\; border: 0px\; outline: 0px\; vertical-align: baseline\; background: transparent\; font-weight: bold\;"><span style="margin: 0px\; padding: 0px\; border: 0px\; outline: 0px\; vertical-align: baseline\; background: transparent\;">Join in the Portage Center for the Arts at the Zona Gale Theatre on select Saturdays throughout the year for music concerts.</span></span></span><br />\n&nbsp\;</p>\n\n<div class="_1Q9if" data-testid="richTextElement" id="comp-kdyp9p8f" style="margin: 2px 0px 5px calc((100% - 980px) * 0.5)\; padding: 0px\; border: 0px\; outline: 0px\; vertical-align: baseline\; background: transparent\; pointer-events: none\; overflow-wrap: break-word\; min-height: var(--min-height)\; position: relative\; left: 179px\; grid-area: 11 / 1 / 12 / 2\; place-self: start\; width: 449px\; height: auto\; --min-height:24px\; color: rgb(0\, 0\, 0)\; font-family: Arial\, Helvetica\, sans-serif\; font-size: 10px\;">\n<p class="font_5" style="margin: 0px\; padding: 0px\; border: 0px\; outline: 0px\; vertical-align: baseline\; background: transparent\; pointer-events: auto\; font-size: 20px\; line-height: normal\; color: rgb(var(--color_15))\;"><span style="font-size:14px\;"><span style="margin: 0px\; padding: 0px\; border: 0px\; outline: 0px\; vertical-align: baseline\; background: transparent\; font-family: proxima-n-w01-reg\, sans-serif\;">The Driftless Brass Quintet plays a wide variety of musical delights&nbsp\;specifically arranged for the group\, ranging from Renaissance to Jazz!</span></span></p>\n</div>\n\n<p class="font_8" style="margin: 0px\; padding: 0px\; border: 0px\; outline: 0px\; vertical-align: baseline\; background: transparent\; pointer-events: auto\; font-size: 14px\; line-height: 1.3em\; color: rgb(0\, 0\, 0)\;">&nbsp\;</p>\n
LOCATION:Portage Center for the Arts 301 East Cook Street Portage\, WI 53901
UID:e.374.28521
SEQUENCE:3
DTSTAMP:20260424T044931Z
URL:http://chambermaster.portagewi.com/events/details/driftless-brass-quintet-at-portage-center-for-the-arts-28521
END:VEVENT

END:VCALENDAR
