BEGIN:VCALENDAR
VERSION:2.0
PRODID:-//ChamberMaster//Event Calendar 2.0//EN
METHOD:PUBLISH
X-PUBLISHED-TTL:P3D
REFRESH-INTERVAL:P3D
CALSCALE:GREGORIAN
BEGIN:VEVENT
DTSTART:20190305T173000Z
DTEND:20190305T190000Z
X-MICROSOFT-CDO-ALLDAYEVENT:FALSE
SUMMARY:Chamber Business Luncheon March 2019
DESCRIPTION:The Portage Area Chamber of Commerce is offering another way to network with your fellow Chamber members and make those important connections that can help you in your business or career. Bring your business cards\, brochures\, or anything you wish to share with other members.\n\n \n\nLuncheon Information\n\nSteve Sobiek\, Director of Business Development and Planning for the City of Portage will be our speaker. He will be giving us an update on projects\, programs and development in the City of Portage.\n\n\n\nLocation:  Neil's Wine House\n\nTime:  Lunch at 11:30AM\, Presentation at Noon\n\nCost: Pay for your lunch at the restaurant\n\nDate: Tuesday\, March 5\, 2019
X-ALT-DESC;FMTTYPE=text/html:<div>\n<div>\n<div>\n<div><span style="font-family: arial\;">The Portage Area Chamber of Commerce is offering another way to network with your fellow Chamber members and&nbsp\;make those important connections that can help you&nbsp\;in your&nbsp\;business or career.&nbsp\;Bring your business cards\, brochures\, or anything you wish to share with other members.</span></div>\n\n<div>&nbsp\;</div>\n\n<div><span style="font-family: arial\;"><u>Luncheon Information</u><br />\nSteve Sobiek\, Director of Business Development and Planning for the City of Portage will be our speaker.&nbsp\;He will be giving us an update on projects\, programs and&nbsp\;development in the City of Portage.<br />\n<br />\nLocation:&nbsp\; Neil&#39\;s Wine House</span>\n\n<div><span style="font-family: arial\;">Time:&nbsp\; Lunch at 11:30AM\,&nbsp\;Presentation&nbsp\;at Noon<br />\nCost: Pay for your lunch at the restaurant<br />\nDate: Tuesday\, March&nbsp\;5\,&nbsp\;2019&nbsp\;</span><br />\n<br />\n<span style="font-size: 16px\;"><span style="font-family: arial\;"><span style="font-size: 16px\;">&nbsp\;</span></span></span><br />\n<span style="font-size: 14px\;"><span style="font-size: 16px\;"><span style="font-family: arial\;">&nbsp\;</span></span></span></div>\n</div>\n</div>\n</div>\n</div>\n
LOCATION:Neil's Wine House 235 West Pleasant Street Portage\, WI 53901
UID:e.374.25029
SEQUENCE:3
DTSTAMP:20260421T201926Z
URL:http://chambermaster.portagewi.com/events/details/chamber-business-luncheon-march-2019-25029
END:VEVENT

END:VCALENDAR
