BEGIN:VCALENDAR
VERSION:2.0
PRODID:-//ChamberMaster//Event Calendar 2.0//EN
METHOD:PUBLISH
X-PUBLISHED-TTL:P3D
REFRESH-INTERVAL:P3D
CALSCALE:GREGORIAN
BEGIN:VEVENT
DTSTART;VALUE=DATE:20200828
DTEND;VALUE=DATE:20200830
TRANSP:TRANSPARENT
X-MICROSOFT-CDO-ALLDAYEVENT:TRUE
SUMMARY:Canceled - Taste of Portage Market Fair - Aug 28 & 29\, 2020
DESCRIPTION:Portage\, WI   The Portage Area Chamber of Commerce is announcing the cancellation of the 2020 Taste of Portage scheduled for August 28-29 in downtown Portage due to the COVID-19 pandemic. \n\n \n\n"This is just not the right time to encourage large volumes of people to converge in one area\," said President and CEO Marianne Hanson of the Portage Area Chamber of Commerce.   "We care about our community\, visitors and volunteers and respect the order the City of Portage has in place\, as well as the recommendations of the CDC."  \n\n \n\nMany organizations\, businesses and volunteers work countless hours to bring this event to our community and there is a disappointment in canceling\, Hanson added.  \n\n \n\nThe Taste of Portage\, which would mark 29 years this summer\, has traditionally featured local food vendors\, live music\, a car and craft show and kid's activities. The event draws thousands to downtown Portage over a two-day period and is an end of summer highlight for the community. \n\n\n\nMark your calendar for August 27 & 28\, 2021.\n\n \n\nFor more information\, visit www.portagewi.com or call the Chamber at 608-742-6242.
X-ALT-DESC;FMTTYPE=text/html:<p><span style="font-size:12.0pt\;">Portage\, WI &ndash\; The Portage Area Chamber of Commerce is announcing the cancellation of the 2020 Taste of Portage scheduled for August 28-29 in downtown Portage due to the COVID-19 pandemic. </span><br />\n&nbsp\;<br />\n<span style="font-size:12.0pt\;">&ldquo\;This is just not the right time to encourage large volumes of people to converge in one area\,&rdquo\; said President and CEO Marianne Hanson of the Portage Area Chamber of Commerce.&nbsp\;&nbsp\; &ldquo\;We care about our community\, visitors and volunteers and respect the order the City of Portage has in place\, as well as the recommendations of the CDC.&rdquo\;&nbsp\; </span><br />\n&nbsp\;<br />\n<span style="font-size:12.0pt\;">Many organizations\, businesses and volunteers work countless hours to bring this event to our community and there is a disappointment in canceling\, Hanson added.&nbsp\; </span><br />\n&nbsp\;<br />\n<span style="font-size:12.0pt\;">The Taste of Portage\, which would mark 29 years this summer\, has traditionally featured local food vendors\, live music\, a car and craft show and kid&rsquo\;s activities. The event draws thousands to downtown Portage over a two-day period and is an end of summer highlight for the community.&nbsp\;<br />\n<br />\nMark your calendar for August 27 &amp\; 28\, 2021.</span><br />\n&nbsp\;<br />\n<span style="font-size:12.0pt\;">For more information\, visit <a href="http://www.portagewi.com">www.portagewi.com</a> or call the Chamber at 608-742-6242.</span><br />\n&nbsp\;<br />\n<br />\n&nbsp\;</p>\n
LOCATION:Downtown Portage along Hwy 33 and in the Market Square Parking Lot located at the corner of Hwy 33 & Adams St
UID:e.374.26486
SEQUENCE:3
DTSTAMP:20260421T085853Z
URL:http://chambermaster.portagewi.com/events/details/canceled-taste-of-portage-market-fair-aug-28-29-2020-26486
END:VEVENT

END:VCALENDAR
