BEGIN:VCALENDAR
VERSION:2.0
PRODID:-//ChamberMaster//Event Calendar 2.0//EN
METHOD:PUBLISH
X-PUBLISHED-TTL:P3D
REFRESH-INTERVAL:P3D
CALSCALE:GREGORIAN
BEGIN:VEVENT
DTSTART:20260521T163000Z
DTEND:20260521T223000Z
X-MICROSOFT-CDO-ALLDAYEVENT:FALSE
SUMMARY:Blood Drive at United Methodist Church
DESCRIPTION:Portage Community Blood Drive\n\nThursday\, May 21\, 2026 11:30 a.m. to 5:30 p.m.\n\n\n\nFor an appointment call 1-800-RED CROSS (1-800-733-2767) or visit RedCrossBlood.org and enter Sponsor Code: Portage Give a Pint\, Get a Pint of Culver's Custard! Get a free coupon for a pint of Culver's famous frozen custard\, while supplies last.
X-ALT-DESC;FMTTYPE=text/html:<p>Portage Community Blood Drive<br />\nThursday\, May 21\, 2026&nbsp\;11:30 a.m. to 5:30 p.m.<br />\n<br />\nFor an appointment call 1-800-RED CROSS (1-800-733-2767) or visit RedCrossBlood.org and enter Sponsor Code: Portage Give a Pint\, Get a Pint of Culver&#39\;s Custard! Get a free coupon for a pint of Culver&#39\;s famous frozen custard\, while supplies last.&nbsp\;<br />\n&nbsp\;</p>\n<br />\n<br />\n&nbsp\;
LOCATION:United Methodist Church 1804 New Pinery Rd Portage\, WI 53901
UID:e.374.40307
SEQUENCE:3
DTSTAMP:20260422T160626Z
URL:http://chambermaster.portagewi.com/events/details/blood-drive-at-united-methodist-church-40307
END:VEVENT

END:VCALENDAR
